BEGIN:VCALENDAR
VERSION:2.0
PRODID:KKTIX
CALSCALE:GREGORIAN
METHOD:PUBLISH
BEGIN:VTIMEZONE
TZID:Asia/Taipei
END:VTIMEZONE
BEGIN:VEVENT
DTSTAMP:20260421T181845Z
UID:cae7486e-591a-4873-b69e-2cf2c3e6683a
DTSTART:20260418T080000Z
DTEND:20260418T080000Z
CLASS:PUBLIC
DESCRIPTION:https://yuko.kktix.cc/events/eunhyuk-fancon-2026-0418
LOCATION: (Broadway Theatre\, Broadway Macau™) 「澳門百老匯™」- 
 百老匯舞台
SUMMARY:【18 Apr】2026 EUNHYUK FANCON - be:WARE OF THE RABBIT
END:VEVENT
END:VCALENDAR
